BEGIN:VCALENDAR
VERSION:2.0
PRODID:icalendar-ruby
CALSCALE:GREGORIAN
METHOD:PUBLISH
BEGIN:VEVENT
DTSTAMP:20260421T174722Z
UID:5-399953@weroccportland.com
DTSTART:20261025T173000Z
DTEND:20261025T183000Z
CLASS:PUBLIC
CREATED:20260421T103842
DESCRIPTION:Sunday Worship
LAST-MODIFIED:20260421T103842
LOCATION:
SUMMARY:Sunday Worship
URL;VALUE=URI:https://www.weroccportland.com/events/sunday-worship/2026-10-
 25
END:VEVENT
END:VCALENDAR
