BEGIN:VCALENDAR
VERSION:2.0
PRODID:icalendar-ruby
CALSCALE:GREGORIAN
METHOD:PUBLISH
BEGIN:VEVENT
DTSTAMP:20260421T122617Z
UID:5-399427@weroccportland.com
DTSTART:20260927T173000Z
DTEND:20260927T183000Z
CLASS:PUBLIC
CREATED:20260421T052300
DESCRIPTION:Sunday Worship
LAST-MODIFIED:20260421T052300
LOCATION:
SUMMARY:Sunday Worship
URL;VALUE=URI:https://www.weroccportland.com/events/sunday-worship/2026-09-
 27
END:VEVENT
END:VCALENDAR
