BEGIN:VCALENDAR
VERSION:2.0
PRODID:icalendar-ruby
CALSCALE:GREGORIAN
METHOD:PUBLISH
BEGIN:VEVENT
DTSTAMP:20260421T045405Z
UID:5-399160@weroccportland.com
DTSTART:20260816T173000Z
DTEND:20260816T183000Z
CLASS:PUBLIC
CREATED:20260420T181536
DESCRIPTION:Sunday Worship
LAST-MODIFIED:20260420T181536
LOCATION:
SUMMARY:Sunday Worship
URL;VALUE=URI:https://www.weroccportland.com/events/sunday-worship/2026-08-
 16
END:VEVENT
END:VCALENDAR
