BEGIN:VCALENDAR
VERSION:2.0
PRODID:icalendar-ruby
CALSCALE:GREGORIAN
METHOD:PUBLISH
BEGIN:VEVENT
DTSTAMP:20260420T200710Z
UID:5-398632@weroccportland.com
DTSTART:20260705T173000Z
DTEND:20260705T183000Z
CLASS:PUBLIC
CREATED:20260420T130544
DESCRIPTION:Sunday Worship
LAST-MODIFIED:20260420T130544
LOCATION:
SUMMARY:Sunday Worship
URL;VALUE=URI:https://www.weroccportland.com/events/sunday-worship/2026-07-
 05
END:VEVENT
END:VCALENDAR
