BEGIN:VCALENDAR
VERSION:2.0
PRODID:icalendar-ruby
CALSCALE:GREGORIAN
METHOD:PUBLISH
BEGIN:VEVENT
DTSTAMP:20260420T183940Z
UID:5-398370@weroccportland.com
DTSTART:20260628T173000Z
DTEND:20260628T183000Z
CLASS:PUBLIC
CREATED:20260420T103025
DESCRIPTION:Sunday Worship
LAST-MODIFIED:20260420T103025
LOCATION:
SUMMARY:Sunday Worship
URL;VALUE=URI:https://www.weroccportland.com/events/sunday-worship/2026-06-
 28
END:VEVENT
END:VCALENDAR
