BEGIN:VCALENDAR
VERSION:2.0
PRODID:icalendar-ruby
CALSCALE:GREGORIAN
METHOD:PUBLISH
BEGIN:VEVENT
DTSTAMP:20260420T135152Z
UID:5-397844@weroccportland.com
DTSTART:20260531T173000Z
DTEND:20260531T183000Z
CLASS:PUBLIC
CREATED:20260420T052152
DESCRIPTION:Sunday Worship
LAST-MODIFIED:20260420T052152
LOCATION:
SUMMARY:Sunday Worship
URL;VALUE=URI:https://www.weroccportland.com/events/sunday-worship/2026-05-
 31
END:VEVENT
END:VCALENDAR
