BEGIN:VCALENDAR
VERSION:2.0
PRODID:icalendar-ruby
CALSCALE:GREGORIAN
METHOD:PUBLISH
BEGIN:VEVENT
DTSTAMP:20260420T043253Z
UID:5-397316@weroccportland.com
DTSTART:20260419T173000Z
DTEND:20260419T183000Z
CLASS:PUBLIC
CREATED:20260419T210740
DESCRIPTION:Sunday Worship
LAST-MODIFIED:20260419T210740
LOCATION:
SUMMARY:Sunday Worship
URL;VALUE=URI:https://www.weroccportland.com/events/sunday-worship/2026-04-
 19
END:VEVENT
END:VCALENDAR
